BEGIN:VCALENDAR
VERSION:2.0
PRODID:-//Haitian Compas Festival - ECPv6.15.20//NONSGML v1.0//EN
CALSCALE:GREGORIAN
METHOD:PUBLISH
X-WR-CALNAME:Haitian Compas Festival
X-ORIGINAL-URL:https://haitiancompafestival.com
X-WR-CALDESC:Events for Haitian Compas Festival
REFRESH-INTERVAL;VALUE=DURATION:PT1H
X-Robots-Tag:noindex
X-PUBLISHED-TTL:PT1H
BEGIN:VTIMEZONE
TZID:UTC
BEGIN:STANDARD
TZOFFSETFROM:+0000
TZOFFSETTO:+0000
TZNAME:UTC
DTSTART:20250101T000000
END:STANDARD
END:VTIMEZONE
BEGIN:VEVENT
DTSTART;TZID=UTC:20260516T140000
DTEND;TZID=UTC:20260516T230000
DTSTAMP:20260419T151208
CREATED:20260317T004125Z
LAST-MODIFIED:20260317T004923Z
UID:23425-1778940000-1778972400@haitiancompafestival.com
SUMMARY:Haitian Compas Festival
DESCRIPTION:The Haitian Compas Festival is a premier cultural event celebrating the rich sound\, rhythm\, and spirit of Haiti. Each year\, thousands gather in Miami to experience electrifying live performances from top Compas artists\, authentic Haitian cuisine\, cultural vendors\, and an atmosphere filled with pride\, music\, and community. The festival has become a global destination for fans of Haitian culture and Caribbean music.
URL:https://haitiancompafestival.com/event/haitian-compas-festival/
CATEGORIES:Festival
ATTACH;FMTTYPE=image/webp:https://haitiancompafestival.com/wp-content/uploads/2026/02/Lineup-copy.webp
ORGANIZER;CN="Haitian Compas Festival":MAILTO:haitiancompasfestival@gmail.com
END:VEVENT
END:VCALENDAR