BEGIN:VCALENDAR
VERSION:2.0
PRODID:-//Haitian Compas Festival - ECPv6.15.20//NONSGML v1.0//EN
CALSCALE:GREGORIAN
METHOD:PUBLISH
X-WR-CALNAME:Haitian Compas Festival
X-ORIGINAL-URL:https://haitiancompafestival.com
X-WR-CALDESC:Events for Haitian Compas Festival
REFRESH-INTERVAL;VALUE=DURATION:PT1H
X-Robots-Tag:noindex
X-PUBLISHED-TTL:PT1H
BEGIN:VTIMEZONE
TZID:UTC
BEGIN:STANDARD
TZOFFSETFROM:+0000
TZOFFSETTO:+0000
TZNAME:UTC
DTSTART:20230101T000000
END:STANDARD
END:VTIMEZONE
BEGIN:VEVENT
DTSTART;VALUE=DATE:20250517
DTEND;VALUE=DATE:20250518
DTSTAMP:20260419T165119
CREATED:20250224T182334Z
LAST-MODIFIED:20250503T010313Z
UID:23205-1747440000-1747526399@haitiancompafestival.com
SUMMARY:Haitian Compas Fest 2025
DESCRIPTION:Welcome to Haitian Compas Fest 2025\nJoin us for a vibrant celebration of Haitian culture\, music\, and community at the Haitian Compas Fest! This year\, we’re bringing together the best in Compas\, Zouk\, and other Caribbean rhythms for an unforgettable festival experience.
URL:https://haitiancompafestival.com/event/haitian-compas-fest-2025/
CATEGORIES:Festival
ATTACH;FMTTYPE=image/jpeg:https://haitiancompafestival.com/wp-content/uploads/2025/05/HCF_New-Location_Flyer_Side.jpg
END:VEVENT
BEGIN:VEVENT
DTSTART;TZID=UTC:20240518T130000
DTEND;TZID=UTC:20240518T230000
DTSTAMP:20260419T165119
CREATED:20240906T221933Z
LAST-MODIFIED:20240906T221933Z
UID:22903-1716037200-1716073200@haitiancompafestival.com
SUMMARY:Haitian Compas Festival 2024
DESCRIPTION:Welcome to Haitian Compas Fest 2024\nJoin us for a vibrant celebration of Haitian culture\, music\, and community at the Haitian Compas Fest! This year\, we’re bringing together the best in Compas\, Zouk\, and other Caribbean rhythms for an unforgettable festival experience.
URL:https://haitiancompafestival.com/event/haitian-compas-festival-2024/
LOCATION:Bayfront Park\, 301 Biscayne Blvd\, Miami\, FL\, 33132\, United States
CATEGORIES:Festival
ATTACH;FMTTYPE=image/jpeg:https://haitiancompafestival.com/wp-content/uploads/2024/09/fest.jpg
ORGANIZER;CN="Haitian Compas Festival":MAILTO:haitiancompasfestival@gmail.com
END:VEVENT
END:VCALENDAR